BEGIN:VCALENDAR
PRODID:-//Google Inc//Google Calendar 70.9054//EN
VERSION:2.0
CALSCALE:GREGORIAN
METHOD:PUBLISH
X-WR-CALNAME:Gambrinus
X-WR-TIMEZONE:Europe/Berlin
X-WR-CALDESC:Gaststätte „Zum Gambrinus“ \nin Salzgitter-Thiede (Steterburg)
 \nGerhart-Hauptmann-Straße 1\n38239 Salzgitter\nTelefon 05341 260650
BEGIN:VTIMEZONE
TZID:Europe/Berlin
X-LIC-LOCATION:Europe/Berlin
BEGIN:DAYLIGHT
TZOFFSETFROM:+0100
TZOFFSETTO:+0200
TZNAME:GMT+2
DTSTART:19700329T020000
RRULE:FREQ=YEARLY;BYMONTH=3;BYDAY=-1SU
END:DAYLIGHT
BEGIN:STANDARD
TZOFFSETFROM:+0200
TZOFFSETTO:+0100
TZNAME:GMT+1
DTSTART:19701025T030000
RRULE:FREQ=YEARLY;BYMONTH=10;BYDAY=-1SU
END:STANDARD
END:VTIMEZONE
BEGIN:VEVENT
DTSTART;VALUE=DATE:20230701
DTEND;VALUE=DATE:20230725
DTSTAMP:20260423T081848Z
UID:5vhf2q2eeo8vuf7in7vp5aeil3@google.com
CREATED:20230621T072219Z
LAST-MODIFIED:20230621T072219Z
SEQUENCE:0
STATUS:CONFIRMED
SUMMARY:Gambrinus Betriebsferien
TRANSP:TRANSPARENT
END:VEVENT
BEGIN:VEVENT
DTSTART;VALUE=DATE:20240629
DTEND;VALUE=DATE:20240726
DTSTAMP:20260423T081848Z
UID:7dq5qkc1ni0mduu7g316g0u9u3@google.com
CREATED:20240521T074815Z
DESCRIPTION:Wir machen Betriebsferien. Am Freitag\, 26. Juli wieder geöffne
 t.
LAST-MODIFIED:20240521T074815Z
SEQUENCE:0
STATUS:CONFIRMED
SUMMARY:Gambrinus: Betriebsferien
TRANSP:TRANSPARENT
END:VEVENT
BEGIN:VEVENT
DTSTART;TZID=Europe/Berlin:20241213T170000
DTEND;TZID=Europe/Berlin:20241213T230000
DTSTAMP:20260423T081848Z
UID:4o8f42ds25u8fn90k0b20c3bdj@google.com
RECURRENCE-ID;TZID=Europe/Berlin:20241213T170000
CREATED:20240804T082747Z
LAST-MODIFIED:20241031T080411Z
LOCATION:Gerhart-Hauptmann-Straße 1\, 38239 Salzgitter\, Deutschland
SEQUENCE:0
STATUS:CONFIRMED
SUMMARY:Gambrinus: Geöffnet
TRANSP:OPAQUE
END:VEVENT
BEGIN:VEVENT
DTSTART;TZID=Europe/Berlin:20241206T170000
DTEND;TZID=Europe/Berlin:20241206T230000
DTSTAMP:20260423T081848Z
UID:4o8f42ds25u8fn90k0b20c3bdj@google.com
RECURRENCE-ID;TZID=Europe/Berlin:20241206T170000
CREATED:20240804T082747Z
LAST-MODIFIED:20241031T080411Z
LOCATION:Gerhart-Hauptmann-Straße 1\, 38239 Salzgitter\, Deutschland
SEQUENCE:0
STATUS:CONFIRMED
SUMMARY:Gambrinus: Geöffnet
TRANSP:OPAQUE
END:VEVENT
BEGIN:VEVENT
DTSTART;TZID=Europe/Berlin:20241129T170000
DTEND;TZID=Europe/Berlin:20241129T230000
DTSTAMP:20260423T081848Z
UID:4o8f42ds25u8fn90k0b20c3bdj@google.com
RECURRENCE-ID;TZID=Europe/Berlin:20241129T170000
CREATED:20240804T082747Z
LAST-MODIFIED:20241031T080411Z
LOCATION:Gerhart-Hauptmann-Straße 1\, 38239 Salzgitter\, Deutschland
SEQUENCE:0
STATUS:CONFIRMED
SUMMARY:Gambrinus: Geöffnet
TRANSP:OPAQUE
END:VEVENT
BEGIN:VEVENT
DTSTART;TZID=Europe/Berlin:20240802T170000
DTEND;TZID=Europe/Berlin:20240802T230000
RRULE:FREQ=WEEKLY;UNTIL=20241226T225959Z;BYDAY=FR
DTSTAMP:20260423T081848Z
UID:4o8f42ds25u8fn90k0b20c3bdj@google.com
CREATED:20240804T082747Z
LAST-MODIFIED:20241031T080411Z
LOCATION:Gerhart-Hauptmann-Straße 1\, 38239 Salzgitter\, Deutschland
SEQUENCE:0
STATUS:CONFIRMED
SUMMARY:Gabrninus: Geöffnet
TRANSP:OPAQUE
END:VEVENT
BEGIN:VEVENT
DTSTART:20230224T170000Z
DTEND:20230224T200000Z
DTSTAMP:20260423T081848Z
UID:6pgm4p9jcgoj4b9i6tj64b9kc5hj4bb16cr34b9m6pgmad31cpimcoj46k@google.com
CREATED:20230201T153906Z
DESCRIPTION:Rechtzeitige Voranmeldung notwendig unter Telefon 05341 260650
LAST-MODIFIED:20230203T105123Z
SEQUENCE:0
STATUS:CONFIRMED
SUMMARY:Grünkohlessen
TRANSP:OPAQUE
END:VEVENT
BEGIN:VEVENT
DTSTART:20231106T183000Z
DTEND:20231106T193000Z
DTSTAMP:20260423T081848Z
UID:6ui4l9ami99ptd44sp99t3avld@google.com
CREATED:20231021T183101Z
LAST-MODIFIED:20231021T183101Z
SEQUENCE:0
STATUS:CONFIRMED
SUMMARY:Steterburg-Treffen
TRANSP:OPAQUE
END:VEVENT
BEGIN:VEVENT
DTSTART;TZID=Europe/Berlin:20240805T170000
DTEND;TZID=Europe/Berlin:20240805T230000
RRULE:FREQ=WEEKLY;UNTIL=20241222T225959Z;BYDAY=MO
DTSTAMP:20260423T081848Z
UID:15d17ul333l9g6fr94urpjifk8@google.com
CREATED:20240804T083020Z
LAST-MODIFIED:20241031T075647Z
LOCATION:Gerhart-Hauptmann-Straße 1\, 38239 Salzgitter\, Deutschland
SEQUENCE:0
STATUS:CONFIRMED
SUMMARY:Gambrinus: Geöffnet
TRANSP:OPAQUE
END:VEVENT
BEGIN:VEVENT
DTSTART;TZID=Europe/Berlin:20241101T170000
DTEND;TZID=Europe/Berlin:20241101T230000
DTSTAMP:20260423T081848Z
UID:4o8f42ds25u8fn90k0b20c3bdj@google.com
RECURRENCE-ID;TZID=Europe/Berlin:20241101T170000
CREATED:20240804T082747Z
LAST-MODIFIED:20241031T080411Z
LOCATION:Gerhart-Hauptmann-Straße 1\, 38239 Salzgitter\, Deutschland
SEQUENCE:0
STATUS:CONFIRMED
SUMMARY:Gambrinus: Geöffnet
TRANSP:OPAQUE
END:VEVENT
BEGIN:VEVENT
DTSTART:20230624T160000Z
DTEND:20230624T210000Z
DTSTAMP:20260423T081848Z
UID:1nn3rsc39ak637p0n4k6evrust@google.com
CREATED:20230621T072311Z
LAST-MODIFIED:20230621T072448Z
SEQUENCE:0
STATUS:CONFIRMED
SUMMARY:Gambrinus erst ab 18:00 Uhr geöffnet!
TRANSP:OPAQUE
END:VEVENT
BEGIN:VEVENT
DTSTART:20230629T173000Z
DTEND:20230629T203000Z
DTSTAMP:20260423T081848Z
UID:52dd1r87khvk262o7otguraqlv@google.com
CREATED:20230613T131102Z
LAST-MODIFIED:20230613T131102Z
SEQUENCE:0
STATUS:CONFIRMED
SUMMARY:Steterburg-Stammtisch vorverlegt wegen Urlaub
TRANSP:OPAQUE
END:VEVENT
BEGIN:VEVENT
DTSTART;TZID=Europe/Berlin:20240807T170000
DTEND;TZID=Europe/Berlin:20240807T230000
RRULE:FREQ=WEEKLY;UNTIL=20241224T225959Z;BYDAY=WE
DTSTAMP:20260423T081848Z
UID:2t1271036eem4c40f3sbm11jjl@google.com
CREATED:20240804T083038Z
LAST-MODIFIED:20241031T075658Z
LOCATION:Gerhart-Hauptmann-Straße 1\, 38239 Salzgitter\, Deutschland
SEQUENCE:0
STATUS:CONFIRMED
SUMMARY:Gambrinus: Geöffnet
TRANSP:OPAQUE
END:VEVENT
BEGIN:VEVENT
DTSTART;TZID=Europe/Berlin:20221006T193000
DTEND;TZID=Europe/Berlin:20221006T220000
RRULE:FREQ=MONTHLY;UNTIL=20250101T225959Z;BYDAY=1TH
DTSTAMP:20260423T081848Z
UID:3vacbkalhd6uoglu6eo5s3hepr@google.com
CREATED:20220928T094239Z
DESCRIPTION:Jeden ersten Donnerstag im Monat treffen sich ein paar Steterbu
 rger zum Klönschnack.
LAST-MODIFIED:20241031T075735Z
LOCATION:Gerhart-Hauptmann-Straße 1\, 38239 Salzgitter\, Deutschland
SEQUENCE:0
STATUS:CONFIRMED
SUMMARY:Treffen Steterburger Runde
TRANSP:OPAQUE
END:VEVENT
BEGIN:VEVENT
DTSTART;TZID=Europe/Berlin:20241220T170000
DTEND;TZID=Europe/Berlin:20241220T230000
DTSTAMP:20260423T081848Z
UID:4o8f42ds25u8fn90k0b20c3bdj@google.com
RECURRENCE-ID;TZID=Europe/Berlin:20241220T170000
CREATED:20240804T082747Z
LAST-MODIFIED:20241031T080411Z
LOCATION:Gerhart-Hauptmann-Straße 1\, 38239 Salzgitter\, Deutschland
SEQUENCE:0
STATUS:CONFIRMED
SUMMARY:Gambrinus: Nach 67 Jahren - letzten Tag geöffnet!
TRANSP:OPAQUE
END:VEVENT
BEGIN:VEVENT
DTSTART;TZID=Europe/Berlin:20241115T170000
DTEND;TZID=Europe/Berlin:20241115T230000
DTSTAMP:20260423T081848Z
UID:4o8f42ds25u8fn90k0b20c3bdj@google.com
RECURRENCE-ID;TZID=Europe/Berlin:20241115T170000
CREATED:20240804T082747Z
LAST-MODIFIED:20241031T080411Z
LOCATION:Gerhart-Hauptmann-Straße 1\, 38239 Salzgitter\, Deutschland
SEQUENCE:0
STATUS:CONFIRMED
SUMMARY:Gambrinus: Geöffnet
TRANSP:OPAQUE
END:VEVENT
BEGIN:VEVENT
DTSTART;TZID=Europe/Berlin:20241108T170000
DTEND;TZID=Europe/Berlin:20241108T230000
DTSTAMP:20260423T081848Z
UID:4o8f42ds25u8fn90k0b20c3bdj@google.com
RECURRENCE-ID;TZID=Europe/Berlin:20241108T170000
CREATED:20240804T082747Z
LAST-MODIFIED:20241031T080411Z
LOCATION:Gerhart-Hauptmann-Straße 1\, 38239 Salzgitter\, Deutschland
SEQUENCE:0
STATUS:CONFIRMED
SUMMARY:Gambrinus: Geöffnet
TRANSP:OPAQUE
END:VEVENT
BEGIN:VEVENT
DTSTART;TZID=Europe/Berlin:20240804T100000
DTEND;TZID=Europe/Berlin:20240804T130000
RRULE:FREQ=WEEKLY;UNTIL=20241221T225959Z;BYDAY=SU
DTSTAMP:20260423T081848Z
UID:3ihjvotovl8e6537n1u2ggafo8@google.com
CREATED:20240804T082957Z
LAST-MODIFIED:20241031T075633Z
LOCATION:Gerhart-Hauptmann-Straße 1\, 38239 Salzgitter\, Deutschland
SEQUENCE:0
STATUS:CONFIRMED
SUMMARY:Gambrinus: Geöffnet
TRANSP:OPAQUE
END:VEVENT
BEGIN:VEVENT
DTSTART;TZID=Europe/Berlin:20241122T170000
DTEND;TZID=Europe/Berlin:20241122T230000
DTSTAMP:20260423T081848Z
UID:4o8f42ds25u8fn90k0b20c3bdj@google.com
RECURRENCE-ID;TZID=Europe/Berlin:20241122T170000
CREATED:20240804T082747Z
LAST-MODIFIED:20241031T080411Z
LOCATION:Gerhart-Hauptmann-Straße 1\, 38239 Salzgitter\, Deutschland
SEQUENCE:0
STATUS:CONFIRMED
SUMMARY:Gambrinus: Geöffnet
TRANSP:OPAQUE
END:VEVENT
BEGIN:VEVENT
DTSTART;TZID=Europe/Berlin:20240801T170000
DTEND;TZID=Europe/Berlin:20240801T220000
RRULE:FREQ=WEEKLY;UNTIL=20241225T225959Z;BYDAY=TH
DTSTAMP:20260423T081848Z
UID:0u96cmn2mp8uulhre5tt4hshth@google.com
CREATED:20240804T082720Z
LAST-MODIFIED:20241031T075706Z
LOCATION:Gerhart-Hauptmann-Straße 1\, 38239 Salzgitter\, Deutschland
SEQUENCE:0
STATUS:CONFIRMED
SUMMARY:Gambrinus: Geöffnet
TRANSP:OPAQUE
END:VEVENT

END:VCALENDAR