BEGIN:VCALENDAR
PRODID:-//Google Inc//Google Calendar 70.9054//EN
VERSION:2.0
CALSCALE:GREGORIAN
METHOD:PUBLISH
X-WR-CALNAME:Bücherfreunde Thiede e.V.
X-WR-TIMEZONE:Europe/Berlin
BEGIN:VTIMEZONE
TZID:Europe/Berlin
X-LIC-LOCATION:Europe/Berlin
BEGIN:DAYLIGHT
TZOFFSETFROM:+0100
TZOFFSETTO:+0200
TZNAME:GMT+2
DTSTART:19700329T020000
RRULE:FREQ=YEARLY;BYMONTH=3;BYDAY=-1SU
END:DAYLIGHT
BEGIN:STANDARD
TZOFFSETFROM:+0200
TZOFFSETTO:+0100
TZNAME:GMT+1
DTSTART:19701025T030000
RRULE:FREQ=YEARLY;BYMONTH=10;BYDAY=-1SU
END:STANDARD
END:VTIMEZONE
BEGIN:VEVENT
DTSTART;TZID=Europe/Berlin:20240729T170000
DTEND;TZID=Europe/Berlin:20240729T190000
RRULE:FREQ=WEEKLY;BYDAY=MO
DTSTAMP:20260423T081344Z
UID:1ipj987dvh9vdci9jcgvja37ba@google.com
CREATED:20240804T085333Z
DESCRIPTION:Bitte beachten Sie:\nWährend der Schulferien ist die Bücherei n
 ur montags in der Zeit von 17:00-19:00 Uhr geöffnet.\nWährend der Weihnacht
 sferien und an gesetzlichen Feiertagen bleibt die Bücherei geschlossen.
LAST-MODIFIED:20250227T143555Z
LOCATION:Klosterweg 30\, 38239 Salzgitter\, Deutschland
SEQUENCE:0
STATUS:CONFIRMED
SUMMARY:Bücherfreunde-Thiede
TRANSP:OPAQUE
END:VEVENT
BEGIN:VEVENT
DTSTART;TZID=Europe/Berlin:20240801T153000
DTEND;TZID=Europe/Berlin:20240801T173000
RRULE:FREQ=WEEKLY;BYDAY=TH
DTSTAMP:20260423T081344Z
UID:7742k93kcop9t0voedg7et1rvs@google.com
CREATED:20240804T091149Z
DESCRIPTION:<span><br>Bitte beachten Sie:<br>Während der Schulferien ist di
 e Bücherei nur montags in der Zeit von 17:00-19:00 Uhr geöffnet.<br>Während
  der Weihnachtsferien und an gesetzlichen Feiertagen bleibt die Bücherei ge
 schlossen.</span>
LAST-MODIFIED:20250227T143714Z
LOCATION:Klosterweg 30\, 38239 Salzgitter\, Deutschland
SEQUENCE:0
STATUS:CONFIRMED
SUMMARY:Bücherfreunde-Thiede
TRANSP:OPAQUE
END:VEVENT
BEGIN:VEVENT
DTSTART;TZID=Europe/Berlin:20240731T153000
DTEND;TZID=Europe/Berlin:20240731T173000
RRULE:FREQ=WEEKLY;BYDAY=WE
DTSTAMP:20260423T081344Z
UID:3rborkl0nsmpe0lharq3jdkpup@google.com
CREATED:20240804T091129Z
DESCRIPTION:<span><br>Bitte beachten Sie:<br>Während der Schulferien ist di
 e Bücherei nur montags in der Zeit von 17:00-19:00 Uhr geöffnet.<br>Während
  der Weihnachtsferien und an gesetzlichen Feiertagen bleibt die Bücherei ge
 schlossen.</span>
LAST-MODIFIED:20250227T143625Z
LOCATION:Klosterweg 30\, 38239 Salzgitter\, Deutschland
SEQUENCE:0
STATUS:CONFIRMED
SUMMARY:Bücherfreunde-Thiede
TRANSP:OPAQUE
END:VEVENT

END:VCALENDAR